BEGIN:VCALENDAR
VERSION:2.0
PRODID:-//The London Chop House - ECPv6.6.4.2//NONSGML v1.0//EN
CALSCALE:GREGORIAN
METHOD:PUBLISH
X-WR-CALNAME:The London Chop House
X-ORIGINAL-URL:https://www.thelondonchophouse.com
X-WR-CALDESC:Events for The London Chop House
REFRESH-INTERVAL;VALUE=DURATION:PT1H
X-Robots-Tag:noindex
X-PUBLISHED-TTL:PT1H
BEGIN:VTIMEZONE
TZID:America/Detroit
BEGIN:DAYLIGHT
TZOFFSETFROM:-0500
TZOFFSETTO:-0400
TZNAME:EDT
DTSTART:20260308T070000
END:DAYLIGHT
BEGIN:STANDARD
TZOFFSETFROM:-0400
TZOFFSETTO:-0500
TZNAME:EST
DTSTART:20261101T060000
END:STANDARD
END:VTIMEZONE
BEGIN:VEVENT
DTSTART;TZID=America/Detroit:20260224T183000
DTEND;TZID=America/Detroit:20260224T183000
DTSTAMP:20260419T155211
CREATED:20200803T194321Z
LAST-MODIFIED:20260129T204944Z
UID:520-1771957800-1771957800@www.thelondonchophouse.com
SUMMARY:DUNCAN McMILLAN
DESCRIPTION:Duncan Williamson McMillan began studying piano at age 5. His musical studies continued with Frederic Dehaven at Christ Church in Grosse Ponte\, singing in the boys choir (1980-1987). From 1989-1992\, Duncan studied jazz piano and music theory with James Hohmeyer\, Bess Bonnier and Matt Michaels. Upon graduation from Western Michigan University in 1997 (B.M. piano/jazz studies)\, Duncan has established a reputation as a versatile musician\, working with such diverse artists as Jon Hendricks\, Aretha Franklin\, Rodney Whitaker\, Ira Sullivan\, Marcus Belgrave\, Eric Marienthal\, Nelson Rangell\, Chris Standring\, and The Four Freshman. In demand as both a pianist and organist\, he regularly performs in the Midwest region with bassist Paul Keller\, vocalist Sarah D’Angelo\, The Paul Keller Orchestra\, and The Randy Napoleon Sextet. In addition\, Mr. McMillan is a respected musical director/arranger for regional thea-ters\, church organizations and local bands. His arrangements have been performed by The Detroit Symphony Orchestra\, University of Michigan (Flint) Jazz Ensemble\, Midland-Odessa Symphony Orchestra\, Smithsonian Jazz Masterworks Jazz Orchestra\, Flint Symphony Orchestra\, Theatre Bizarre Orchestra\, & The Planet D Nonet. More information is available through Musa Canta Music\, a collaborative business venture with saxophonist/educator/arranger\, Joshua James. www.musacantamusic.com Selected Discography:“Room with a View” – Duncan W. McMillan (2019)“My Blue Heaven” – The Paul Keller At Sundown Quintet (2017)“Brother\, Brother” – Tom Douvan (2014)“This is what we do” – The R.J. Spangler Trio (2012)“At Sundown” – The Paul Keller Quartet (2012)“Your Soul” – The Ben Jansson Trio (2012)“The Jukebox Crowd” – Randy Napoleon Sextet (2012)”Organic Roots” – The Pete Siers Quartet (2009)”The Gentleman is back” – Johnnie Bassett & The Blues Insurgents (2009)”A week in the life of The Firefly Club” – Paul Keller Orchestra (2008)”The Easy Life” – The Odessa Harris Group (2003
URL:https://www.thelondonchophouse.com/index.php/events/duncan-mcmillan-2/
CATEGORIES:Entertainment catagory
ATTACH;FMTTYPE=image/jpeg:https://www.thelondonchophouse.com/wp-content/uploads/2020/07/Duncan-McMillan.jpg
END:VEVENT
END:VCALENDAR