BEGIN:VCALENDAR
VERSION:2.0
PRODID:-//The London Chop House - ECPv6.6.4.2//NONSGML v1.0//EN
CALSCALE:GREGORIAN
METHOD:PUBLISH
X-ORIGINAL-URL:https://www.thelondonchophouse.com
X-WR-CALDESC:Events for The London Chop House
REFRESH-INTERVAL;VALUE=DURATION:PT1H
X-Robots-Tag:noindex
X-PUBLISHED-TTL:PT1H
BEGIN:VTIMEZONE
TZID:America/Detroit
BEGIN:DAYLIGHT
TZOFFSETFROM:-0500
TZOFFSETTO:-0400
TZNAME:EDT
DTSTART:20260308T070000
END:DAYLIGHT
BEGIN:STANDARD
TZOFFSETFROM:-0400
TZOFFSETTO:-0500
TZNAME:EST
DTSTART:20261101T060000
END:STANDARD
END:VTIMEZONE
BEGIN:VEVENT
DTSTART;TZID=America/Detroit:20260311T183000
DTEND;TZID=America/Detroit:20260311T213000
DTSTAMP:20260419T155338
CREATED:20250630T153012Z
LAST-MODIFIED:20260227T201336Z
UID:2116-1773253800-1773264600@www.thelondonchophouse.com
SUMMARY:Olivia Van Goor Duo
DESCRIPTION:
URL:https://www.thelondonchophouse.com/index.php/events/olivia-van-goor-duo-3/
CATEGORIES:Entertainment catagory
ATTACH;FMTTYPE=image/jpeg:https://www.thelondonchophouse.com/wp-content/uploads/2021/10/OVG.jpg
END:VEVENT
END:VCALENDAR