BEGIN:VCALENDAR
VERSION:2.0
PRODID:-//The London Chop House - ECPv6.6.4.2//NONSGML v1.0//EN
CALSCALE:GREGORIAN
METHOD:PUBLISH
X-WR-CALNAME:The London Chop House
X-ORIGINAL-URL:https://www.thelondonchophouse.com
X-WR-CALDESC:Events for The London Chop House
REFRESH-INTERVAL;VALUE=DURATION:PT1H
X-Robots-Tag:noindex
X-PUBLISHED-TTL:PT1H
BEGIN:VTIMEZONE
TZID:America/Detroit
BEGIN:DAYLIGHT
TZOFFSETFROM:-0500
TZOFFSETTO:-0400
TZNAME:EDT
DTSTART:20250309T070000
END:DAYLIGHT
BEGIN:STANDARD
TZOFFSETFROM:-0400
TZOFFSETTO:-0500
TZNAME:EST
DTSTART:20251102T060000
END:STANDARD
END:VTIMEZONE
BEGIN:VEVENT
DTSTART;TZID=America/Detroit:20250611T183000
DTEND;TZID=America/Detroit:20250611T213000
DTSTAMP:20260425T063049
CREATED:20250501T145659Z
LAST-MODIFIED:20250529T172056Z
UID:2110-1749666600-1749677400@www.thelondonchophouse.com
SUMMARY:MICHAEL BROCK DUO
DESCRIPTION:Michael singer/songwriter and entertainer currently One of the 4 tops. Touring all over the world with Otis Williams Temptations. Michael is musical director at Cass Community Methodist Church. Michael sang with The Dramatics. Aretha Franklin chose Michael to open for her at the Fox theater in Detroit stating Michael is one of the greatest performers in the world! Michael has shared the stage with Steven Tyler\, Earth Wind and Fire\, Stevie Wonder\, Prince.
URL:https://www.thelondonchophouse.com/index.php/events/michael-brock/
CATEGORIES:Entertainment catagory
ATTACH;FMTTYPE=image/jpeg:https://www.thelondonchophouse.com/wp-content/uploads/2025/05/michael-brock.jpg
END:VEVENT
BEGIN:VEVENT
DTSTART;TZID=America/Detroit:20250618T183000
DTEND;TZID=America/Detroit:20250618T213000
DTSTAMP:20260425T063049
CREATED:20240627T175415Z
LAST-MODIFIED:20250529T172454Z
UID:2051-1750271400-1750282200@www.thelondonchophouse.com
SUMMARY:ANDREW BROWN / KATIE SMITH DUO
DESCRIPTION:
URL:https://www.thelondonchophouse.com/index.php/events/andrew-brown-katy-smith-duo-2/
CATEGORIES:Entertainment catagory
ATTACH;FMTTYPE=image/jpeg:https://www.thelondonchophouse.com/wp-content/uploads/2023/12/ABKS.jpg
END:VEVENT
BEGIN:VEVENT
DTSTART;TZID=America/Detroit:20250625T183000
DTEND;TZID=America/Detroit:20250625T213000
DTSTAMP:20260425T063049
CREATED:20230731T182303Z
LAST-MODIFIED:20250616T170133Z
UID:1913-1750876200-1750887000@www.thelondonchophouse.com
SUMMARY:BRETT LUCAS & JARROD CHAMPION DUO
DESCRIPTION:
URL:https://www.thelondonchophouse.com/index.php/events/brett-lucas-duo-jarrod-champion-duo/
CATEGORIES:Entertainment catagory
ATTACH;FMTTYPE=image/jpeg:https://www.thelondonchophouse.com/wp-content/uploads/2023/05/brett_jarrod-duo.jpg
END:VEVENT
BEGIN:VEVENT
DTSTART;TZID=America/Detroit:20250628T183000
DTEND;TZID=America/Detroit:20250628T223000
DTSTAMP:20260425T063049
CREATED:20240627T170406Z
LAST-MODIFIED:20250616T170240Z
UID:2042-1751135400-1751149800@www.thelondonchophouse.com
SUMMARY:PAUL RITCHIE
DESCRIPTION:
URL:https://www.thelondonchophouse.com/index.php/events/paul-ritchie-quartet/
CATEGORIES:Entertainment catagory
ATTACH;FMTTYPE=image/jpeg:https://www.thelondonchophouse.com/wp-content/uploads/2024/06/paul-ritchie.jpg
END:VEVENT
END:VCALENDAR