BEGIN:VCALENDAR
VERSION:2.0
PRODID:-//The London Chop House - ECPv6.6.4.2//NONSGML v1.0//EN
CALSCALE:GREGORIAN
METHOD:PUBLISH
X-ORIGINAL-URL:https://www.thelondonchophouse.com
X-WR-CALDESC:Events for The London Chop House
REFRESH-INTERVAL;VALUE=DURATION:PT1H
X-Robots-Tag:noindex
X-PUBLISHED-TTL:PT1H
BEGIN:VTIMEZONE
TZID:America/Detroit
BEGIN:DAYLIGHT
TZOFFSETFROM:-0500
TZOFFSETTO:-0400
TZNAME:EDT
DTSTART:20260308T070000
END:DAYLIGHT
BEGIN:STANDARD
TZOFFSETFROM:-0400
TZOFFSETTO:-0500
TZNAME:EST
DTSTART:20261101T060000
END:STANDARD
END:VTIMEZONE
BEGIN:VEVENT
DTSTART;TZID=America/Detroit:20260205T183000
DTEND;TZID=America/Detroit:20260205T213000
DTSTAMP:20260419T154438
CREATED:20251202T164242Z
LAST-MODIFIED:20260129T204333Z
UID:2143-1770316200-1770327000@www.thelondonchophouse.com
SUMMARY:DUNCAN McMILLAN with VANESSA RUBIN
DESCRIPTION:Duncan Williamson McMillan began studying piano at age 5. His musical studies continued with Frederic Dehaven at Christ Church in Grosse Ponte\, singing in the boys choir (1980-1987). From 1989-1992\, Duncan studied jazz piano and music theory with James Hohmeyer\, Bess Bonnier and Matt Michaels. Upon graduation from Western Michigan University in 1997 (B.M. piano/jazz studies)\, Duncan has established a reputation as a versatile musician\, working with such diverse artists as Jon Hendricks\, Aretha Franklin\, Rodney Whitaker\, Ira Sullivan\, Marcus Belgrave\, Eric Marienthal\, Nelson Rangell\, Chris Standring\, and The Four Freshman. In demand as both a pianist and organist\, he regularly performs in the Midwest region with bassist Paul Keller\, vocalist Sarah D’Angelo\, The Paul Keller Orchestra\, and The Randy Napoleon Sextet. In addition\, Mr. McMillan is a respected musical director/arranger for regional thea-ters\, church organizations and local bands. His arrangements have been performed by The Detroit Symphony Orchestra\, University of Michigan (Flint) Jazz Ensemble\, Midland-Odessa Symphony Orchestra\, Smithsonian Jazz Masterworks Jazz Orchestra\, Flint Symphony Orchestra\, Theatre Bizarre Orchestra\, & The Planet D Nonet. More information is available through Musa Canta Music\, a collaborative business venture with saxophonist/educator/arranger\, Joshua James. www.musacantamusic.com Selected Discography:“Room with a View” – Duncan W. McMillan (2019)“My Blue Heaven” – The Paul Keller At Sundown Quintet (2017)“Brother\, Brother” – Tom Douvan (2014)“This is what we do” – The R.J. Spangler Trio (2012)“At Sundown” – The Paul Keller Quartet (2012)“Your Soul” – The Ben Jansson Trio (2012)“The Jukebox Crowd” – Randy Napoleon Sextet (2012)”Organic Roots” – The Pete Siers Quartet (2009)”The Gentleman is back” – Johnnie Bassett & The Blues Insurgents (2009)”A week in the life of The Firefly Club” – Paul Keller Orchestra (2008)”The Easy Life” – The Odessa Harris Group (2003
URL:https://www.thelondonchophouse.com/index.php/events/duncan-mcmillan-with-vanessa-rubin/
CATEGORIES:Entertainment catagory
ATTACH;FMTTYPE=image/jpeg:https://www.thelondonchophouse.com/wp-content/uploads/2023/05/Duncan-1.jpg
END:VEVENT
BEGIN:VEVENT
DTSTART;TZID=America/Detroit:20260206T183000
DTEND;TZID=America/Detroit:20260206T213000
DTSTAMP:20260419T154438
CREATED:20260129T204012Z
LAST-MODIFIED:20260129T204351Z
UID:2152-1770402600-1770413400@www.thelondonchophouse.com
SUMMARY:DUNCAN McMILLAN with VANESSA RUBIN
DESCRIPTION:Duncan Williamson McMillan began studying piano at age 5. His musical studies continued with Frederic Dehaven at Christ Church in Grosse Ponte\, singing in the boys choir (1980-1987). From 1989-1992\, Duncan studied jazz piano and music theory with James Hohmeyer\, Bess Bonnier and Matt Michaels. Upon graduation from Western Michigan University in 1997 (B.M. piano/jazz studies)\, Duncan has established a reputation as a versatile musician\, working with such diverse artists as Jon Hendricks\, Aretha Franklin\, Rodney Whitaker\, Ira Sullivan\, Marcus Belgrave\, Eric Marienthal\, Nelson Rangell\, Chris Standring\, and The Four Freshman. In demand as both a pianist and organist\, he regularly performs in the Midwest region with bassist Paul Keller\, vocalist Sarah D’Angelo\, The Paul Keller Orchestra\, and The Randy Napoleon Sextet. In addition\, Mr. McMillan is a respected musical director/arranger for regional thea-ters\, church organizations and local bands. His arrangements have been performed by The Detroit Symphony Orchestra\, University of Michigan (Flint) Jazz Ensemble\, Midland-Odessa Symphony Orchestra\, Smithsonian Jazz Masterworks Jazz Orchestra\, Flint Symphony Orchestra\, Theatre Bizarre Orchestra\, & The Planet D Nonet. More information is available through Musa Canta Music\, a collaborative business venture with saxophonist/educator/arranger\, Joshua James. www.musacantamusic.com Selected Discography:“Room with a View” – Duncan W. McMillan (2019)“My Blue Heaven” – The Paul Keller At Sundown Quintet (2017)“Brother\, Brother” – Tom Douvan (2014)“This is what we do” – The R.J. Spangler Trio (2012)“At Sundown” – The Paul Keller Quartet (2012)“Your Soul” – The Ben Jansson Trio (2012)“The Jukebox Crowd” – Randy Napoleon Sextet (2012)”Organic Roots” – The Pete Siers Quartet (2009)”The Gentleman is back” – Johnnie Bassett & The Blues Insurgents (2009)”A week in the life of The Firefly Club” – Paul Keller Orchestra (2008)”The Easy Life” – The Odessa Harris Group (2003
URL:https://www.thelondonchophouse.com/index.php/events/duncan-mcmillan-with-vanessa-rubin-2/
CATEGORIES:Entertainment catagory
ATTACH;FMTTYPE=image/jpeg:https://www.thelondonchophouse.com/wp-content/uploads/2023/05/Duncan-1.jpg
END:VEVENT
BEGIN:VEVENT
DTSTART;TZID=America/Detroit:20260224T183000
DTEND;TZID=America/Detroit:20260224T183000
DTSTAMP:20260419T154438
CREATED:20200803T194321Z
LAST-MODIFIED:20260129T204944Z
UID:520-1771957800-1771957800@www.thelondonchophouse.com
SUMMARY:DUNCAN McMILLAN
DESCRIPTION:Duncan Williamson McMillan began studying piano at age 5. His musical studies continued with Frederic Dehaven at Christ Church in Grosse Ponte\, singing in the boys choir (1980-1987). From 1989-1992\, Duncan studied jazz piano and music theory with James Hohmeyer\, Bess Bonnier and Matt Michaels. Upon graduation from Western Michigan University in 1997 (B.M. piano/jazz studies)\, Duncan has established a reputation as a versatile musician\, working with such diverse artists as Jon Hendricks\, Aretha Franklin\, Rodney Whitaker\, Ira Sullivan\, Marcus Belgrave\, Eric Marienthal\, Nelson Rangell\, Chris Standring\, and The Four Freshman. In demand as both a pianist and organist\, he regularly performs in the Midwest region with bassist Paul Keller\, vocalist Sarah D’Angelo\, The Paul Keller Orchestra\, and The Randy Napoleon Sextet. In addition\, Mr. McMillan is a respected musical director/arranger for regional thea-ters\, church organizations and local bands. His arrangements have been performed by The Detroit Symphony Orchestra\, University of Michigan (Flint) Jazz Ensemble\, Midland-Odessa Symphony Orchestra\, Smithsonian Jazz Masterworks Jazz Orchestra\, Flint Symphony Orchestra\, Theatre Bizarre Orchestra\, & The Planet D Nonet. More information is available through Musa Canta Music\, a collaborative business venture with saxophonist/educator/arranger\, Joshua James. www.musacantamusic.com Selected Discography:“Room with a View” – Duncan W. McMillan (2019)“My Blue Heaven” – The Paul Keller At Sundown Quintet (2017)“Brother\, Brother” – Tom Douvan (2014)“This is what we do” – The R.J. Spangler Trio (2012)“At Sundown” – The Paul Keller Quartet (2012)“Your Soul” – The Ben Jansson Trio (2012)“The Jukebox Crowd” – Randy Napoleon Sextet (2012)”Organic Roots” – The Pete Siers Quartet (2009)”The Gentleman is back” – Johnnie Bassett & The Blues Insurgents (2009)”A week in the life of The Firefly Club” – Paul Keller Orchestra (2008)”The Easy Life” – The Odessa Harris Group (2003
URL:https://www.thelondonchophouse.com/index.php/events/duncan-mcmillan-2/
CATEGORIES:Entertainment catagory
ATTACH;FMTTYPE=image/jpeg:https://www.thelondonchophouse.com/wp-content/uploads/2020/07/Duncan-McMillan.jpg
END:VEVENT
BEGIN:VEVENT
DTSTART;TZID=America/Detroit:20260225T183000
DTEND;TZID=America/Detroit:20260225T213000
DTSTAMP:20260419T154438
CREATED:20230530T151341Z
LAST-MODIFIED:20260129T205018Z
UID:1861-1772044200-1772055000@www.thelondonchophouse.com
SUMMARY:Olivia Van Goor Duo
DESCRIPTION:
URL:https://www.thelondonchophouse.com/index.php/events/olivia-van-goor-duo/
CATEGORIES:Entertainment catagory
ATTACH;FMTTYPE=image/jpeg:https://www.thelondonchophouse.com/wp-content/uploads/2021/10/OVG.jpg
END:VEVENT
BEGIN:VEVENT
DTSTART;TZID=America/Detroit:20260227T183000
DTEND;TZID=America/Detroit:20260227T213000
DTSTAMP:20260419T154438
CREATED:20250408T184400Z
LAST-MODIFIED:20260129T205119Z
UID:2108-1772217000-1772227800@www.thelondonchophouse.com
SUMMARY:PAUL KING QUARTET
DESCRIPTION:Influenced heavily by the great jazz\, swing and soul crooners\, Paul King has created a classic sound of his own. Known for his smooth tone and sophisticated style\, Paul and his band have a gift for making your evening special. His interesting song choices and wonderful vocal phrasing have been making dancers\, jazz heads and casual listeners happy for decades.
URL:https://www.thelondonchophouse.com/index.php/events/paul-king-quartet-5/
CATEGORIES:Entertainment catagory
ATTACH;FMTTYPE=image/jpeg:https://www.thelondonchophouse.com/wp-content/uploads/2021/03/paul-king-1.jpg
END:VEVENT
BEGIN:VEVENT
DTSTART;TZID=America/Detroit:20260228T183000
DTEND;TZID=America/Detroit:20260228T213000
DTSTAMP:20260419T154438
CREATED:20250104T001705Z
LAST-MODIFIED:20260129T205146Z
UID:2097-1772303400-1772314200@www.thelondonchophouse.com
SUMMARY:PAUL KING QUARTET
DESCRIPTION:Influenced heavily by the great jazz\, swing and soul crooners\, Paul King has created a classic sound of his own. Known for his smooth tone and sophisticated style\, Paul and his band have a gift for making your evening special. His interesting song choices and wonderful vocal phrasing have been making dancers\, jazz heads and casual listeners happy for decades.
URL:https://www.thelondonchophouse.com/index.php/events/paul-king-quartet-4/
CATEGORIES:Entertainment catagory
ATTACH;FMTTYPE=image/jpeg:https://www.thelondonchophouse.com/wp-content/uploads/2021/03/paul-king-1.jpg
END:VEVENT
END:VCALENDAR