BEGIN:VCALENDAR
VERSION:2.0
PRODID:-//The London Chop House - ECPv6.6.4.2//NONSGML v1.0//EN
CALSCALE:GREGORIAN
METHOD:PUBLISH
X-ORIGINAL-URL:https://www.thelondonchophouse.com
X-WR-CALDESC:Events for The London Chop House
REFRESH-INTERVAL;VALUE=DURATION:PT1H
X-Robots-Tag:noindex
X-PUBLISHED-TTL:PT1H
BEGIN:VTIMEZONE
TZID:America/Detroit
BEGIN:DAYLIGHT
TZOFFSETFROM:-0500
TZOFFSETTO:-0400
TZNAME:EDT
DTSTART:20260308T070000
END:DAYLIGHT
BEGIN:STANDARD
TZOFFSETFROM:-0400
TZOFFSETTO:-0500
TZNAME:EST
DTSTART:20261101T060000
END:STANDARD
END:VTIMEZONE
BEGIN:VEVENT
DTSTART;TZID=America/Detroit:20260305T183000
DTEND;TZID=America/Detroit:20260305T213000
DTSTAMP:20260419T140734
CREATED:20230329T192754Z
LAST-MODIFIED:20260227T201022Z
UID:1771-1772735400-1772746200@www.thelondonchophouse.com
SUMMARY:PAUL KING QUARTET w/ CHELSEA PACKARD
DESCRIPTION:Influenced heavily by the great jazz\, swing and soul crooners\, Paul King has created a classic sound of his own. Known for his smooth tone and sophisticated style\, Paul and his band have a gift for making your evening special. His interesting song choices and wonderful vocal phrasing have been making dancers\, jazz heads and casual listeners happy for decades.
URL:https://www.thelondonchophouse.com/index.php/events/paul-king-quartet-w-chelsea-packard/
CATEGORIES:Entertainment catagory
ATTACH;FMTTYPE=image/jpeg:https://www.thelondonchophouse.com/wp-content/uploads/2023/03/chelsea-packard.jpg
END:VEVENT
BEGIN:VEVENT
DTSTART;TZID=America/Detroit:20260306T183000
DTEND;TZID=America/Detroit:20260306T223000
DTSTAMP:20260419T140734
CREATED:20230104T220130Z
LAST-MODIFIED:20260227T201106Z
UID:1683-1772821800-1772836200@www.thelondonchophouse.com
SUMMARY:CHRIS CODISH TRIO
DESCRIPTION:Keyboard specialist Chris Codish has steadily made himself a vital part of the Detroit musical community. A perennial winner at the Detroit Music Awards over the past fourteen years\, he has received multiple honors for his vocal and songwriting skills as well as his keyboard mastery. He formed the multi award winning funk/jazz/jam band The Brothers Groove\, produced the last two albums for the late\, great Detroit bluesman Johnnie Bassett on Sly Dog Records (Mack Ave. Records)\, and toured globally with Hiram Bullock\, Harvey Mason\, Alexander Zonjic\, Larry McCray and Lucky Peterson. He’s performed and/or recorded with Don Was\, Roy Ayers\, Ronnie Laws\, Jim “Moose” Brown\, Sponge\, The Motor City Horns\, The Dead String Brothers\, Kenny Tudrick\, Dave McMurray\, Thornetta Davis\, Kenny G\, Bob James\, Jeff Lorber\, and countless others. When not on tour\, Chris performs on piano\, organ and keyboard throughout the Metro Detroit area\, as well as at God Land Unity Church in Detroit every Sunday morning.
URL:https://www.thelondonchophouse.com/index.php/events/chris-codish-trio-4/
CATEGORIES:Entertainment catagory
ATTACH;FMTTYPE=image/jpeg:https://www.thelondonchophouse.com/wp-content/uploads/2021/05/cc3.jpg
END:VEVENT
BEGIN:VEVENT
DTSTART;TZID=America/Detroit:20260307T183000
DTEND;TZID=America/Detroit:20260307T213000
DTSTAMP:20260419T140734
CREATED:20251030T165746Z
LAST-MODIFIED:20260227T201138Z
UID:2140-1772908200-1772919000@www.thelondonchophouse.com
SUMMARY:PAUL KING QUARTET
DESCRIPTION:Influenced heavily by the great jazz\, swing and soul crooners\, Paul King has created a classic sound of his own. Known for his smooth tone and sophisticated style\, Paul and his band have a gift for making your evening special. His interesting song choices and wonderful vocal phrasing have been making dancers\, jazz heads and casual listeners happy for decades.
URL:https://www.thelondonchophouse.com/index.php/events/paul-king-quartet-6/
CATEGORIES:Entertainment catagory
ATTACH;FMTTYPE=image/jpeg:https://www.thelondonchophouse.com/wp-content/uploads/2021/03/paul-king-1.jpg
END:VEVENT
BEGIN:VEVENT
DTSTART;TZID=America/Detroit:20260311T183000
DTEND;TZID=America/Detroit:20260311T213000
DTSTAMP:20260419T140734
CREATED:20250630T153012Z
LAST-MODIFIED:20260227T201336Z
UID:2116-1773253800-1773264600@www.thelondonchophouse.com
SUMMARY:Olivia Van Goor Duo
DESCRIPTION:
URL:https://www.thelondonchophouse.com/index.php/events/olivia-van-goor-duo-3/
CATEGORIES:Entertainment catagory
ATTACH;FMTTYPE=image/jpeg:https://www.thelondonchophouse.com/wp-content/uploads/2021/10/OVG.jpg
END:VEVENT
BEGIN:VEVENT
DTSTART;TZID=America/Detroit:20260314T183000
DTEND;TZID=America/Detroit:20260411T223000
DTSTAMP:20260419T140734
CREATED:20230629T183314Z
LAST-MODIFIED:20260227T201541Z
UID:1879-1773513000-1775946600@www.thelondonchophouse.com
SUMMARY:PAUL KING QUARTET
DESCRIPTION:Influenced heavily by the great jazz\, swing and soul crooners\, Paul King has created a classic sound of his own. Known for his smooth tone and sophisticated style\, Paul and his band have a gift for making your evening special. His interesting song choices and wonderful vocal phrasing have been making dancers\, jazz heads and casual listeners happy for decades.
URL:https://www.thelondonchophouse.com/index.php/events/paul-king-quartet-3/
CATEGORIES:Entertainment catagory
ATTACH;FMTTYPE=image/jpeg:https://www.thelondonchophouse.com/wp-content/uploads/2021/03/paul-king-1.jpg
END:VEVENT
BEGIN:VEVENT
DTSTART;TZID=America/Detroit:20260317T183000
DTEND;TZID=America/Detroit:20260317T213000
DTSTAMP:20260419T140734
CREATED:20211201T152903Z
LAST-MODIFIED:20260227T201656Z
UID:1188-1773772200-1773783000@www.thelondonchophouse.com
SUMMARY:PHIL KELLY
DESCRIPTION:
URL:https://www.thelondonchophouse.com/index.php/events/phil-kelly/
CATEGORIES:Entertainment catagory
ATTACH;FMTTYPE=image/jpeg:https://www.thelondonchophouse.com/wp-content/uploads/2021/12/Phil-Kelly.jpg
END:VEVENT
BEGIN:VEVENT
DTSTART;TZID=America/Detroit:20260319T183000
DTEND;TZID=America/Detroit:20260319T213000
DTSTAMP:20260419T140734
CREATED:20231228T215140Z
LAST-MODIFIED:20260227T204437Z
UID:1982-1773945000-1773955800@www.thelondonchophouse.com
SUMMARY:PAUL KELLER QUARTET featuring: PAUL KING
DESCRIPTION:Influenced heavily by the great jazz\, swing and soul crooners\, Paul King has created a classic sound of his own. Known for his smooth tone and sophisticated style\, Paul and his band have a gift for making your evening special. His interesting song choices and wonderful vocal phrasing have been making dancers\, jazz heads and casual listeners happy for decades.
URL:https://www.thelondonchophouse.com/index.php/events/paul-keller-quartet-featuring-paul-king/
CATEGORIES:Entertainment catagory
ATTACH;FMTTYPE=image/jpeg:https://www.thelondonchophouse.com/wp-content/uploads/2021/03/paul-king-1.jpg
END:VEVENT
BEGIN:VEVENT
DTSTART;TZID=America/Detroit:20260321T183000
DTEND;TZID=America/Detroit:20260321T223000
DTSTAMP:20260419T140734
CREATED:20220831T180333Z
LAST-MODIFIED:20260227T204631Z
UID:1484-1774117800-1774132200@www.thelondonchophouse.com
SUMMARY:PAUL KING QUARTET
DESCRIPTION:Influenced heavily by the great jazz\, swing and soul crooners\, Paul King has created a classic sound of his own. Known for his smooth tone and sophisticated style\, Paul and his band have a gift for making your evening special. His interesting song choices and wonderful vocal phrasing have been making dancers\, jazz heads and casual listeners happy for decades.
URL:https://www.thelondonchophouse.com/index.php/events/paul-king-quartet/
CATEGORIES:Entertainment catagory
ATTACH;FMTTYPE=image/jpeg:https://www.thelondonchophouse.com/wp-content/uploads/2021/03/paul-king-1.jpg
END:VEVENT
BEGIN:VEVENT
DTSTART;TZID=America/Detroit:20260324T183000
DTEND;TZID=America/Detroit:20260324T213000
DTSTAMP:20260419T140734
CREATED:20240729T143303Z
LAST-MODIFIED:20260227T204849Z
UID:2059-1774377000-1774387800@www.thelondonchophouse.com
SUMMARY:KEITH FERGUSON
DESCRIPTION:Born and raised in Detroit\, Michigan . The smooth sounds of Keith Ferguson will leave you relaxed and energize. His style of music ranges from Jazz to Motown. Keith is presently the musical director for  “The Spinners”. He has also played with the late great Ms. Aretha Franklin\, The Temptations\, Anita Baker\, Kem\,Cheryl Lynn just to name a few. I’m sure you won’t be disappointed after listening to Keith.
URL:https://www.thelondonchophouse.com/index.php/events/keith-ferguson/
CATEGORIES:Entertainment catagory
ATTACH;FMTTYPE=image/jpeg:https://www.thelondonchophouse.com/wp-content/uploads/2024/07/Keith-Ferguson.jpg
END:VEVENT
BEGIN:VEVENT
DTSTART;TZID=America/Detroit:20260330T183000
DTEND;TZID=America/Detroit:20260330T213000
DTSTAMP:20260419T140734
CREATED:20210528T192950Z
LAST-MODIFIED:20260227T205840Z
UID:934-1774895400-1774906200@www.thelondonchophouse.com
SUMMARY:CHRIS CODISH
DESCRIPTION:…He formed the multi award winning funk/jazz/jam band The Brothers Groove\, produced the last two albums for the late\, great Detroit bluesman Johnnie Bassett on Sly Dog Records (Mack Ave. Records)\, and toured globally with Hiram Bullock\, Harvey Mason\, Alexander Zonjic\, Larry McCray and Lucky Peterson. He’s performed and/or recorded with Don Was\, Roy Ayers\, Ronnie Laws\, Jim “Moose” Brown\, Sponge\, The Motor City Horns\, The Dead String Brothers\, Kenny Tudrick\, Dave McMurray\, Thornetta Davis\, Kenny G\, Bob James\, Jeff Lorber\, and countless others. When not on tour\, Chris performs on piano\, organ and keyboard throughout the Metro Detroit area\, as well as at God Land Unity Church in Detroit every Sunday morning.
URL:https://www.thelondonchophouse.com/index.php/events/chris-codish-2/
CATEGORIES:Entertainment catagory
ATTACH;FMTTYPE=image/jpeg:https://www.thelondonchophouse.com/wp-content/uploads/2021/05/codish-1.jpg
END:VEVENT
END:VCALENDAR